BEGIN:VCALENDAR
VERSION:2.0
PRODID:-//The Naperville Flying Club - ECPv4.0.4//NONSGML v1.0//EN
CALSCALE:GREGORIAN
METHOD:PUBLISH
X-WR-CALNAME:The Naperville Flying Club
X-ORIGINAL-URL:http://napervilleflyingclub.com
X-WR-CALDESC:Events for The Naperville Flying Club
BEGIN:VEVENT
DTSTART;TZID="America/Chicago":20160625T100000
DTEND;TZID="America/Chicago":20160625T130000
DTSTAMP:20260425T205315
CREATED:20160518T133411
LAST-MODIFIED:20160518T133427
UID:1036-1466848800-1466859600@napervilleflyingclub.com
SUMMARY:2016 Chicago Aviation Symposium
DESCRIPTION:Chicago-area NATCA Bridge the Gap\nPresents:\n\nThe 2016 Chicago Aviation Symposium\n\nJune 25\, 2016\nLewis University (KLOT)\nRomeoville\, IL\n\nA FAAST Wings Credit Event\n\nPlease RSVP here.\n\nRamp Space Available!\n\n\tChicago VFR and IFR operations\n\tSummer weather\n\tUnmanned Aerial Systems (Subject to change)\n\tClimb Via SIDs and Descend Via STARs\n\tCirrus Aircraft Demonstration (static Cirrus display)\n\tQ&A with Chicago-area ATC (ORD\, MDW\, C90\, ZAU)\n
URL:http://napervilleflyingclub.com/event/2016-chicago-aviation-symposium/
LOCATION:One University Parkway\, Romeoville\, IL\, 60446\, United States
CATEGORIES:Aviation Events
ATTACH;FMTTYPE=image/png:http://napervilleflyingclub.com/wp/wp-content/uploads/2016/05/chicavsymp.png
END:VEVENT
END:VCALENDAR