BEGIN:VCALENDAR
VERSION:2.0
PRODID:-//The Naperville Flying Club - ECPv4.0.4//NONSGML v1.0//EN
CALSCALE:GREGORIAN
METHOD:PUBLISH
X-WR-CALNAME:The Naperville Flying Club
X-ORIGINAL-URL:http://napervilleflyingclub.com
X-WR-CALDESC:Events for The Naperville Flying Club
BEGIN:VEVENT
DTSTART;TZID="America/Chicago":20160607T183000
DTEND;TZID="America/Chicago":20160607T200000
DTSTAMP:20260425T205102
CREATED:20160416T224754
LAST-MODIFIED:20160531T164920
UID:914-1465324200-1465329600@napervilleflyingclub.com
SUMMARY:Maintenance Plane Wash
DESCRIPTION:Join your fellow pilots and help wash (and wax?) N9636V and hopefully 08U if it becomes available!  Last time we got 2 planes done in 2 hours\, now we can finish them up for the flying season.  Why?\n\n\tIt makes them fly faster\n\tIt makes them last longer\n\tThey look better (you look better after a shower too!)\n\tTo get to know your airplanes better\n\tBecause there is free food (menu TBD)\n\tBecause you can bring your whole family\n\nWe will provide all the cleaning supplies but if you have a bucket and a microfiber cleaning cloth/glove please bring it!  An RSVP Below is appreciated.
URL:http://napervilleflyingclub.com/event/maintenance-plane-wash/
LOCATION:9S357 Aero Drive\, Naperville\, IL\, 60564\, United States
CATEGORIES:Maintenance,Social
ATTACH;FMTTYPE=image/jpeg:http://napervilleflyingclub.com/wp/wp-content/uploads/2016/04/IMG_0787.jpg
END:VEVENT
END:VCALENDAR