BEGIN:VCALENDAR
VERSION:2.0
PRODID:-//The Naperville Flying Club - ECPv4.0.4//NONSGML v1.0//EN
CALSCALE:GREGORIAN
METHOD:PUBLISH
X-WR-CALNAME:The Naperville Flying Club
X-ORIGINAL-URL:http://napervilleflyingclub.com
X-WR-CALDESC:Events for The Naperville Flying Club
BEGIN:VEVENT
DTSTART;TZID="America/Chicago":20160602T193000
DTEND;TZID="America/Chicago":20160602T210000
DTSTAMP:20260425T210105
CREATED:20160415T231812
LAST-MODIFIED:20160518T154019
UID:911-1464895800-1464901200@napervilleflyingclub.com
SUMMARY:Monthly Club Meeting
DESCRIPTION:NOTE THE LOCATION:  Naperville City Hall (Room NEU).  This is our monthly club meeting.  We cover club business\, safety talks\, maintenance discussions and invite new members to inquire about the club.  This is the opportunity for new members to get voted in.  We share a light refreshment after the meeting.\n\nThis meeting is the elections meeting.  If you are a full member\, please make every effort to attend.
URL:http://napervilleflyingclub.com/event/monthly-club-meeting-5/
LOCATION:400 S. Eagle Street\, Naperville\, IL\, 60540\, United States
CATEGORIES:Club Meetings
END:VEVENT
END:VCALENDAR