BEGIN:VCALENDAR
VERSION:2.0
PRODID:-//The Naperville Flying Club - ECPv4.0.4//NONSGML v1.0//EN
CALSCALE:GREGORIAN
METHOD:PUBLISH
X-WR-CALNAME:The Naperville Flying Club
X-ORIGINAL-URL:http://napervilleflyingclub.com
X-WR-CALDESC:Events for The Naperville Flying Club
BEGIN:VEVENT
DTSTART;TZID="America/Chicago":20160718T083000
DTEND;TZID="America/Chicago":20160718T110000
DTSTAMP:20260425T193329
CREATED:20160718T203433
LAST-MODIFIED:20160718T203433
UID:1172-1468830600-1468839600@napervilleflyingclub.com
SUMMARY:Pancake Breakfast
DESCRIPTION:Join us for breakfast in the Hangar #3.  This is a joint effort by the NFC and BFC to promote comradery in our small aviation community.  There will be pancakes\, sausage\, hash browns\, and coffee provided as well as a few board/table games.  There are several different ways to help out: Setting up\, taking down or flipping pancakes.\n\nCost is $4 for adults 18+\n\nCost is $2 for kids 3-17\n\nCost is free for kids under 3\n\nSign up below!
URL:http://napervilleflyingclub.com/event/pancake-breakfast-2/
LOCATION:9S357 Aero Drive\, Naperville\, IL\, 60564\, United States
CATEGORIES:Social
ATTACH;FMTTYPE=image/jpeg:http://napervilleflyingclub.com/wp/wp-content/uploads/2016/02/IMG_0915.jpg
END:VEVENT
END:VCALENDAR