BEGIN:VCALENDAR
VERSION:2.0
PRODID:-//The Naperville Flying Club - ECPv4.0.4//NONSGML v1.0//EN
CALSCALE:GREGORIAN
METHOD:PUBLISH
X-WR-CALNAME:The Naperville Flying Club
X-ORIGINAL-URL:http://napervilleflyingclub.com
X-WR-CALDESC:Events for The Naperville Flying Club
BEGIN:VEVENT
DTSTART;TZID="America/Chicago":20160514T083000
DTEND;TZID="America/Chicago":20160514T110000
DTSTAMP:20260425T231611
CREATED:20160217T143925
LAST-MODIFIED:20160414T191847
UID:625-1463214600-1463223600@napervilleflyingclub.com
SUMMARY:Pancake Breakfast Spring 2016
DESCRIPTION:Join us for flapjacks in the Hangar #3.  This is a joint effort by the NFC and BFC to promote comradery in our small aviation community.  There will be pancakes\, sausage\, hash browns\, and coffee provided.  If you're willing to bring your favorite breakfast dish or juice please sign up with the registration link below.  There are several different ways to help out: Setting up\, taking down\, flipping pancakes or bringing a food or drink.\n\nCost is $4 for adults 18+\n\nCost is $2 for kids 3-17\n\nCost is free for kids under 3\n\nSign up below!
URL:http://napervilleflyingclub.com/event/pancake-breakfast-spring-2016/
LOCATION:9S357 Aero Drive\, Naperville\, IL\, 60564\, United States
CATEGORIES:Social
ATTACH;FMTTYPE=image/jpeg:http://napervilleflyingclub.com/wp/wp-content/uploads/2016/02/2016-Spring-Pancake-Bfast.jpg
END:VEVENT
END:VCALENDAR