BEGIN:VCALENDAR
VERSION:2.0
PRODID:-//The Naperville Flying Club - ECPv4.0.4//NONSGML v1.0//EN
CALSCALE:GREGORIAN
METHOD:PUBLISH
X-WR-CALNAME:The Naperville Flying Club
X-ORIGINAL-URL:http://napervilleflyingclub.com
X-WR-CALDESC:Events for The Naperville Flying Club
BEGIN:VEVENT
DTSTART;TZID="America/Chicago":20250621T090000
DTEND;TZID="America/Chicago":20250621T130000
DTSTAMP:20260424T131014
CREATED:20250607T170536
LAST-MODIFIED:20250607T170536
UID:2350-1750496400-1750510800@napervilleflyingclub.com
SUMMARY:Plane Wash
DESCRIPTION:Come join our upcoming Plane Wash!\nBring your energy (and maybe your favorite towel)\, and join us on the ramp for some donuts\, and the always-satisfying feeling of seeing our fleet sparkle. This is a great chance to catch up with fellow members and get your hands a little sudsy for the good of the club.\nMark your calendars\, and we hope to see you there for some CLEAN fun!\nBlue skies\,
URL:http://napervilleflyingclub.com/event/plane-wash-4/
LOCATION:9S357 Aero Drive\, Naperville\, IL\, 60564\, United States
CATEGORIES:Social
ORGANIZER;CN="Brian%20Stenson":MAILTO:bstenson@gmail.com
END:VEVENT
END:VCALENDAR