BEGIN:VCALENDAR
VERSION:2.0
PRODID:-//The Naperville Flying Club - ECPv4.0.4//NONSGML v1.0//EN
CALSCALE:GREGORIAN
METHOD:PUBLISH
X-WR-CALNAME:The Naperville Flying Club
X-ORIGINAL-URL:http://napervilleflyingclub.com
X-WR-CALDESC:Events for The Naperville Flying Club
BEGIN:VEVENT
DTSTART;TZID="America/Chicago":20160611T083000
DTEND;TZID="America/Chicago":20160611T133000
DTSTAMP:20260425T205921
CREATED:20160406T114820
LAST-MODIFIED:20160426T192211
UID:840-1465633800-1465651800@napervilleflyingclub.com
SUMMARY:2016 Naper Aero Poker Run
DESCRIPTION:Naper Aero's first ever poker run!  Pilots will fly to 4 different airports\, collect your cards and return to LL10 where the best poker hand wins. Burgers and dogs will be waiting for you when you get back to LL10.\nDetails:\n\n\tEarly registration is $15/hand\, cost after June 4th is $20\n\tEarly registration ends June 4th at 10pm\n\tMultiple hands may be purchased  (You do not have to be the pilot to buy a hand\, but you must fly to each airport either as a pilot or passenger to collect your cards)\n\tDesignated airports: SQI-VYS-C75-PNT\n\tPilot briefing pack available here.\n\tOnly register if you are buying a poker hand (pilot or passenger) or want to attend the lunch\n\tMandatory pilot briefing at 8:30am in hangar #3 at LL10\n\n\tIf you don't attend the briefing\, you will forfeit your hand\n\n\n\nPrize:\n\n\t1st Place: 1 year basic plus foreflight subscription or split the registration money 50/50\n\t2nd Place: Leftover prize from 1st place\n\t3rd Place: Sporty's gift card\n\nSafety:\n\n\tThis is not a race\, take your time and be safe!\n\tIf the weather is less than 3\,000' ceilings or 5 miles visibility the event will be postponed\n\nBackup weather dates are June 12th or 18th. Registration form is available here. YOU MUST FILL THIS OUT AND SEND IT TO AARON BARCLAY (Contact info on the registration sheet).  To be eligible for the early registration fee ($15/hand) the form must be filled out and sent to Aaron Barclay prior to 10pm on Saturday June 4th.  Registration fees will be paid at the door IN CASH!
URL:http://napervilleflyingclub.com/event/2016-naper-aero-poker-run/
LOCATION:9S357 Aero Drive\, Naperville\, IL\, 60564\, United States
CATEGORIES:Aviation Events,Social
END:VEVENT
END:VCALENDAR