BEGIN:VCALENDAR
VERSION:2.0
PRODID:-//The Naperville Flying Club - ECPv4.0.4//NONSGML v1.0//EN
CALSCALE:GREGORIAN
METHOD:PUBLISH
X-WR-CALNAME:The Naperville Flying Club
X-ORIGINAL-URL:http://napervilleflyingclub.com
X-WR-CALDESC:Events for The Naperville Flying Club
BEGIN:VEVENT
DTSTART;TZID="America/Chicago":20160628T183000
DTEND;TZID="America/Chicago":20160628T203000
DTSTAMP:20260425T193920
CREATED:20160621T122116
LAST-MODIFIED:20160621T122116
UID:1139-1467138600-1467145800@napervilleflyingclub.com
SUMMARY:Plane Wash
DESCRIPTION:Join your fellow pilots and help degrease and wash N9348Y and N114EL!  The more people we have helping the less time it takes so lets band together at least a few more times to keep our planes clean.  Why?\n\n\tBecause you can bring your kids and there are no child labor laws\n\tBecause it is more fun than a video game\n\tBecause it keeps us more connected than Facebook\n\tBecause it makes them look better and last longer\n\tBecause all you have to do is show up\n\tBecause there is free food\n\nWe will provide all the cleaning supplies but if you have a bucket and a microfiber cleaning cloth/glove please bring it!  An RSVP Below is appreciated.
URL:http://napervilleflyingclub.com/event/plane-wash/
LOCATION:9S357 Aero Drive\, Naperville\, IL\, 60564\, United States
CATEGORIES:Maintenance,Social
ATTACH;FMTTYPE=image/jpeg:http://napervilleflyingclub.com/wp/wp-content/uploads/2015/01/June-Plane-Wash1.jpg
END:VEVENT
END:VCALENDAR