BEGIN:VCALENDAR
VERSION:2.0
PRODID:-//The Naperville Flying Club - ECPv4.0.4//NONSGML v1.0//EN
CALSCALE:GREGORIAN
METHOD:PUBLISH
X-WR-CALNAME:The Naperville Flying Club
X-ORIGINAL-URL:http://napervilleflyingclub.com
X-WR-CALDESC:Events for The Naperville Flying Club
BEGIN:VEVENT
DTSTART;VALUE=DATE:20160725
DTEND;VALUE=DATE:20160731
DTSTAMP:20260425T205910
CREATED:20160225
LAST-MODIFIED:20160225
UID:849-1469404800-1470009599@napervilleflyingclub.com
SUMMARY:Oshkosh 2016
DESCRIPTION:Join the millions who have made it to Oshkosh.  From experimental aircraft to fighter jets and everything in between you will not be disappointed with this years lineup. Here are the highlights from last years show. Click here to view details or to buy tickets.\n\n \n\n
URL:http://napervilleflyingclub.com/event/oshkosh-2016/
LOCATION:525 w. 20th ave\, oshkosh\, WI\, 54902\, United States
CATEGORIES:Aviation Events
END:VEVENT
END:VCALENDAR