BEGIN:VCALENDAR
VERSION:2.0
PRODID:-//The Naperville Flying Club - ECPv4.0.4//NONSGML v1.0//EN
CALSCALE:GREGORIAN
METHOD:PUBLISH
X-WR-CALNAME:The Naperville Flying Club
X-ORIGINAL-URL:http://napervilleflyingclub.com
X-WR-CALDESC:Events for The Naperville Flying Club
BEGIN:VEVENT
DTSTART;TZID="America/Chicago":20260110T190000
DTEND;TZID="America/Chicago":20260110T230000
DTSTAMP:20260422T070013
CREATED:20250511T182156
LAST-MODIFIED:20250511T182156
UID:2345-1768071600-1768086000@napervilleflyingclub.com
SUMMARY:NFC New Year Party - NY26
DESCRIPTION:Please bring your family and join us at the NFC New Years party.  It will be the amazing dinner with Kim & John Wigger\, and possibly John's famous Old Fashion if you're not on the naughty list.  Please bring your entire family and get to know your fellow NFC members.  Kids are welcome too! Bring a white elephant gift: 1 gift per adult (or 1 gift per couple\, then you play as a couple). Come prepared to laugh and share your favorite flying stories.
URL:http://napervilleflyingclub.com/event/nfc-new-year-party-ny26/
CATEGORIES:Social
END:VEVENT
END:VCALENDAR