BEGIN:VCALENDAR
VERSION:2.0
PRODID:-//The Naperville Flying Club - ECPv4.0.4//NONSGML v1.0//EN
CALSCALE:GREGORIAN
METHOD:PUBLISH
X-WR-CALNAME:The Naperville Flying Club
X-ORIGINAL-URL:https://napervilleflyingclub.com
X-WR-CALDESC:Events for The Naperville Flying Club
BEGIN:VEVENT
DTSTART;TZID="America/Chicago":20160726T181500
DTEND;TZID="America/Chicago":20160726T201500
DTSTAMP:20260422T100813
CREATED:20160718T175651
LAST-MODIFIED:20160718T175651
UID:1162-1469556900-1469564100@napervilleflyingclub.com
SUMMARY:Plane Wash
DESCRIPTION:Let's protect our planes and keep them clean!  Let's wash 36V and 08U.  The more people we have helping the less time it takes so lets band together at least a few more times to keep our planes clean.  Why?\n\n\tBecause it's a great family event\n\tBecause it is more fun than a barrel of monkeys\n\tBecause it makes them look better and last longer (and fly faster?)\n\tBecause it's your airplane too!\n\tBecause there is free food (Tacos)\n\nWe will provide all the cleaning supplies but if you have a bucket and a microfiber cleaning cloth/glove please bring it!  An RSVP Below is appreciated.
URL:https://napervilleflyingclub.com/event/plane-wash-2/
LOCATION:9S357 Aero Drive\, Naperville\, IL\, 60564\, United States
CATEGORIES:Maintenance,Social
ATTACH;FMTTYPE=image/jpeg:https://napervilleflyingclub.com/wp/wp-content/uploads/2015/01/IMG_1024.jpg
END:VEVENT
END:VCALENDAR